BEGIN:VCALENDAR
VERSION:2.0
PRODID:-//Domaine Roumagnac - ECPv6.15.17.1//NONSGML v1.0//EN
CALSCALE:GREGORIAN
METHOD:PUBLISH
X-WR-CALNAME:Domaine Roumagnac
X-ORIGINAL-URL:https://www.domaineroumagnac.fr
X-WR-CALDESC:Évènements pour Domaine Roumagnac
REFRESH-INTERVAL;VALUE=DURATION:PT1H
X-Robots-Tag:noindex
X-PUBLISHED-TTL:PT1H
BEGIN:VTIMEZONE
TZID:UTC
BEGIN:STANDARD
TZOFFSETFROM:+0000
TZOFFSETTO:+0000
TZNAME:UTC
DTSTART:20250101T000000
END:STANDARD
END:VTIMEZONE
BEGIN:VEVENT
DTSTART;TZID=UTC:20260404T110000
DTEND;TZID=UTC:20260404T180000
DTSTAMP:20260421T160328
CREATED:20160614T105219Z
LAST-MODIFIED:20260122T135235Z
UID:1035-1775300400-1775325600@www.domaineroumagnac.fr
SUMMARY:Pâques au Domaine
DESCRIPTION:Le chocolat pour les enfants et le bar à vin pour les parents !😎 \n Chasse aux oeufs dans les vignes de 11H00 à 12H30 (Inscriptions ouvertes pour les enfants jusqu’à 12ans – départ toutes les 15 minutes) Pensez à prendre votre petit panier !\n Repas convivial proposé par le food truck de la Rosa Negra avec un menu spécial pour les enfants\n Bar à vin pour les parents\n Ambiance musicale et festive garantie toute la journée !\n–\nRendez-vous au 20 hameau de Raygades – 31340 VILLEMATIER\nSoyez connectés sur Instagram et Facebook pour suivre les actualités et infos pratiques de l’évènement !
URL:https://www.domaineroumagnac.fr/event/porte-ouverte-ete/
LOCATION:VILLEMATIER\, 20\, Hameau de Raygades\, VILLEMATIER\, Haute Garonne\, 31340\, France
CATEGORIES:Evénement annuel
ATTACH;FMTTYPE=image/png:https://www.domaineroumagnac.fr/wp-content/uploads/2016/06/3.png
ORGANIZER;CN="Domaine Roumagnac":MAILTO:vignoble@domaineroumagnac.fr
END:VEVENT
END:VCALENDAR